BEGIN:VCALENDAR
VERSION:2.0
PRODID:-//Belgica Driving School - ECPv4.5.2.1//NONSGML v1.0//EN
CALSCALE:GREGORIAN
METHOD:PUBLISH
X-WR-CALNAME:Belgica Driving School
X-ORIGINAL-URL:https://belgicadrivingschool.com.au
X-WR-CALDESC:Events for Belgica Driving School
BEGIN:VEVENT
DTSTART;TZID=UTC+0:20160303T083000
DTEND;TZID=UTC+0:20191226T100000
DTSTAMP:20210228T001202
CREATED:20160128T042756Z
LAST-MODIFIED:20160128T042756Z
UID:581-1456993800-1577354400@belgicadrivingschool.com.au
SUMMARY:Creative Problem Solving for Researchers
DESCRIPTION:The core business of a PhD or early career researcher is to have new ideas and then explore them. Originality is our shared currency regardless of academic discipline. And yet many researchers report finding themselves stuck in a rut\, having the same thoughts again and again\, when what they really need are fresh insights\, new concepts and original ideas. This empowering and challenging course will allow participants to bring along their own real problems and explore them from a number of new angles. The seminar will focus on the needs and personal creativity styles of all the participants and will then will move on to explore:\n\n\tHow to explore a problem and tackle it from a number of new angles\n\tA range of creativity techniques and how to apply and implement them\n\tA toolkit for evaluating ideas\n
URL:https://belgicadrivingschool.com.au/event/creative-problem-solving-for-researchers/
LOCATION:3222 S 169th St\, Seattle\, WA\, United States
END:VEVENT
END:VCALENDAR